BEGIN:VCALENDAR
VERSION:2.0
PRODID:-//Anstoss zum Leben - ECPv6.15.20//NONSGML v1.0//EN
CALSCALE:GREGORIAN
METHOD:PUBLISH
X-WR-CALNAME:Anstoss zum Leben
X-ORIGINAL-URL:https://anstosszumleben.de
X-WR-CALDESC:Veranstaltungen für Anstoss zum Leben
REFRESH-INTERVAL;VALUE=DURATION:PT1H
X-Robots-Tag:noindex
X-PUBLISHED-TTL:PT1H
BEGIN:VTIMEZONE
TZID:Europe/Paris
BEGIN:DAYLIGHT
TZOFFSETFROM:+0100
TZOFFSETTO:+0200
TZNAME:CEST
DTSTART:20250330T010000
END:DAYLIGHT
BEGIN:STANDARD
TZOFFSETFROM:+0200
TZOFFSETTO:+0100
TZNAME:CET
DTSTART:20251026T010000
END:STANDARD
BEGIN:DAYLIGHT
TZOFFSETFROM:+0100
TZOFFSETTO:+0200
TZNAME:CEST
DTSTART:20260329T010000
END:DAYLIGHT
BEGIN:STANDARD
TZOFFSETFROM:+0200
TZOFFSETTO:+0100
TZNAME:CET
DTSTART:20261025T010000
END:STANDARD
BEGIN:DAYLIGHT
TZOFFSETFROM:+0100
TZOFFSETTO:+0200
TZNAME:CEST
DTSTART:20270328T010000
END:DAYLIGHT
BEGIN:STANDARD
TZOFFSETFROM:+0200
TZOFFSETTO:+0100
TZNAME:CET
DTSTART:20271031T010000
END:STANDARD
END:VTIMEZONE
BEGIN:VEVENT
DTSTART;TZID=Europe/Paris:20260610T140000
DTEND;TZID=Europe/Paris:20260610T180000
DTSTAMP:20260421T191223
CREATED:20251129T080516Z
LAST-MODIFIED:20251129T080803Z
UID:11119-1781100000-1781114400@anstosszumleben.de
SUMMARY:Jolinchen Sportfest
DESCRIPTION:Jolinchen Sportfest – Bewegungsfreude für die Kleinsten! \n\n\n\nBewegung\, Spaß und Gemeinschaft stehen im Mittelpunkt des Jolinchen Sportfests\, das wir in Zusammenarbeit mit der AOK Nordwest und dem der Kreissportbund für Kinder im Alter von 3 bis 7 Jahren veranstalten. Dieses besondere Event lädt Kitas\, Sportvereine und Familien ein\, an einem abwechslungsreichen Programm teilzunehmen\, das die motorischen Fähigkeiten der Kleinen fördert und Freude an Bewegung weckt. \n\n\n\nAuf einem spannenden Bewegungsparcours können die Kinder Stationen des Jolinchen-Kindersportabzeichens absolvieren – von Koordinationsübungen bis hin zu spielerischen Herausforderungen. Anschließend gibt es Gelegenheit\, sich auf Freispielflächen auszutoben und mit gesunden Snacks neue Energie zu tanken. Ziel ist es\, Kinder auf kindgerechte Weise an Sport heranzuführen und Familien zu mehr gemeinsamer Aktivität zu motivieren.Das Jolinchen Sportfest ist kostenfrei – Infos und Anmeldung gibt’s über Nadine Dietrich unter dietrich@ksb-siwi.de.
URL:https://anstosszumleben.de/veranstaltung/jolinchen-sportfest-2/
LOCATION:TeamSportPark\, In der Leimbach 3\, Siegen\, Nordrhein-Westfalen\, 57074\, Germany
ATTACH;FMTTYPE=image/jpeg:https://anstosszumleben.de/wp-content/uploads/2025/06/IMG_4431.jpeg
END:VEVENT
END:VCALENDAR